BEGIN:VCALENDAR
VERSION:2.0
PRODID:-//KJT - ECPv6.10.2//NONSGML v1.0//EN
CALSCALE:GREGORIAN
METHOD:PUBLISH
X-ORIGINAL-URL:https://www.kjt.lu/en/
X-WR-CALDESC:Events for KJT
REFRESH-INTERVAL;VALUE=DURATION:PT1H
X-Robots-Tag:noindex
X-PUBLISHED-TTL:PT1H
BEGIN:VTIMEZONE
TZID:Europe/Berlin
BEGIN:DAYLIGHT
TZOFFSETFROM:+0100
TZOFFSETTO:+0200
TZNAME:CEST
DTSTART:20250330T010000
END:DAYLIGHT
BEGIN:STANDARD
TZOFFSETFROM:+0200
TZOFFSETTO:+0100
TZNAME:CET
DTSTART:20251026T010000
END:STANDARD
END:VTIMEZONE
BEGIN:VEVENT
DTSTART;TZID=Europe/Berlin:20250601T130000
DTEND;TZID=Europe/Berlin:20250601T180000
DTSTAMP:20260420T162256
CREATED:20250311T100546Z
LAST-MODIFIED:20250311T100546Z
UID:15296-1748782800-1748800800@www.kjt.lu
SUMMARY:World Play Day
DESCRIPTION:KJT is once again taking part in World Play Day\, which is celebrated this year in Remich at “Esplanade” .\nVarious organisations offer numerous play opportunities for young and old throughout the day.
URL:https://www.kjt.lu/en/event/world-play-day-2/
LOCATION:“Op der Esplanade”\, Réimech\, Luxemburg
CATEGORIES:Ambassador KJT,event
ATTACH;FMTTYPE=image/jpeg:https://www.kjt.lu/wp-content/uploads/2024/06/Weltspilldag.jpg
END:VEVENT
BEGIN:VEVENT
DTSTART;TZID=Europe/Berlin:20250606T100000
DTEND;TZID=Europe/Berlin:20250606T153000
DTSTAMP:20260420T162256
CREATED:20250602T101948Z
LAST-MODIFIED:20250604T123542Z
UID:14062-1749204000-1749223800@www.kjt.lu
SUMMARY:Ambassador of KJT @ City Rallye
DESCRIPTION:Also this year the ambassador team represents KJT at the City Rally organized by Jugendrot. They are looking forward meeting the youngsters. It’s great that KJT can be part of this awesome event again.
URL:https://www.kjt.lu/en/event/ambassador-of-the-kjt-city-rallye-2/
CATEGORIES:Ambassador KJT
ATTACH;FMTTYPE=image/jpeg:https://www.kjt.lu/wp-content/uploads/2023/06/Logo-City-Rallye-1.jpg
END:VEVENT
BEGIN:VEVENT
DTSTART;TZID=Europe/Berlin:20250613T100000
DTEND;TZID=Europe/Berlin:20250613T153000
DTSTAMP:20260420T162256
CREATED:20250604T123547Z
LAST-MODIFIED:20250604T123547Z
UID:15451-1749808800-1749828600@www.kjt.lu
SUMMARY:Ambassador of KJT @ City Rallye
DESCRIPTION:Also this year the ambassador team represents KJT at the City Rally organized by Jugendrot. They are looking forward meeting the youngsters. It’s great that KJT can be part of this awesome event again.
URL:https://www.kjt.lu/en/event/ambassador-of-kjt-city-rallye-2/
CATEGORIES:Ambassador KJT
ATTACH;FMTTYPE=image/jpeg:https://www.kjt.lu/wp-content/uploads/2023/06/Logo-City-Rallye-1.jpg
END:VEVENT
END:VCALENDAR