BEGIN:VCALENDAR
VERSION:2.0
PRODID:-//KJT - ECPv6.10.2//NONSGML v1.0//EN
CALSCALE:GREGORIAN
METHOD:PUBLISH
X-WR-CALNAME:KJT
X-ORIGINAL-URL:https://www.kjt.lu/en/
X-WR-CALDESC:Events for KJT
REFRESH-INTERVAL;VALUE=DURATION:PT1H
X-Robots-Tag:noindex
X-PUBLISHED-TTL:PT1H
BEGIN:VTIMEZONE
TZID:Europe/Berlin
BEGIN:DAYLIGHT
TZOFFSETFROM:+0100
TZOFFSETTO:+0200
TZNAME:CEST
DTSTART:20230326T010000
END:DAYLIGHT
BEGIN:STANDARD
TZOFFSETFROM:+0200
TZOFFSETTO:+0100
TZNAME:CET
DTSTART:20231029T010000
END:STANDARD
END:VTIMEZONE
BEGIN:VEVENT
DTSTART;TZID=Europe/Berlin:20231010T090000
DTEND;TZID=Europe/Berlin:20231010T120000
DTSTAMP:20260421T071119
CREATED:20231005T130238Z
LAST-MODIFIED:20231005T130320Z
UID:14407-1696928400-1696939200@www.kjt.lu
SUMMARY:Foire vun der Jugendaarbecht
DESCRIPTION:The KJT Ambassador Team will be present with an information stand at the “Foire vun der Jugendaarbecht”. \nRegistration: https://www.snj.public.lu/foire-vun-der-jugendaarbecht-2023/ \n 
URL:https://www.kjt.lu/en/event/foire-vun-der-jugendaarbecht/
LOCATION:Forum Geeseknäppchen\, 40 Bd Pierre Dupong\, Luxembourg\, 1430\, Luxemburg
CATEGORIES:Ambassador KJT
ATTACH;FMTTYPE=image/jpeg:https://www.kjt.lu/wp-content/uploads/2023/10/2023-10-10-Foire-vun-der-Jugendaarbecht2-1.jpg
END:VEVENT
BEGIN:VEVENT
DTSTART;TZID=Europe/Berlin:20231012T184500
DTEND;TZID=Europe/Berlin:20231012T220000
DTSTAMP:20260421T071119
CREATED:20231003T094814Z
LAST-MODIFIED:20231003T100427Z
UID:14360-1697136300-1697148000@www.kjt.lu
SUMMARY:KJT celebrates with film screening
DESCRIPTION:Reserve your tickets via the following link (seats are limited): ➡️ https://tinyurl.com/5n6vbhvy
URL:https://www.kjt.lu/en/event/kjt-celebrates-with-film-screening/
LOCATION:Kino Utopia\, 16 Av. de la Faiencerie\, Luxembourg\, 1510\, Luxemburg
CATEGORIES:elterentelefon,event
ATTACH;FMTTYPE=image/jpeg:https://www.kjt.lu/wp-content/uploads/2023/10/Invitation-V2-office-print-Seite1-1.jpg
END:VEVENT
BEGIN:VEVENT
DTSTART;TZID=Europe/Berlin:20231017T140000
DTEND;TZID=Europe/Berlin:20231017T193000
DTSTAMP:20260421T071119
CREATED:20231005T132034Z
LAST-MODIFIED:20231005T132034Z
UID:14427-1697551200-1697571000@www.kjt.lu
SUMMARY:Foire didactique et conférence sur les concepts de protection de l’enfant
DESCRIPTION:The KJT Ambassador Team will be present with an information stand at the “Foire didactique et conférence sur les concepts de protection de l’enfant”.\nMore information: https://men.public.lu/de/agenda/2023/07/18-foire-protection-enfant.html
URL:https://www.kjt.lu/en/event/foire-didactique-et-conference-sur-les-concepts-de-protection-de-lenfant/
LOCATION:European Convention Center Luxembourg / Hémicycle
CATEGORIES:Ambassador KJT
ATTACH;FMTTYPE=image/jpeg:https://www.kjt.lu/wp-content/uploads/2023/10/2023-10-17-foire-didactique-2-scaled.jpg
END:VEVENT
END:VCALENDAR