BEGIN:VCALENDAR
VERSION:2.0
PRODID:-//KJT - ECPv6.10.2//NONSGML v1.0//EN
CALSCALE:GREGORIAN
METHOD:PUBLISH
X-ORIGINAL-URL:https://www.kjt.lu/en/
X-WR-CALDESC:Events for KJT
REFRESH-INTERVAL;VALUE=DURATION:PT1H
X-Robots-Tag:noindex
X-PUBLISHED-TTL:PT1H
BEGIN:VTIMEZONE
TZID:Europe/Berlin
BEGIN:DAYLIGHT
TZOFFSETFROM:+0100
TZOFFSETTO:+0200
TZNAME:CEST
DTSTART:20210328T010000
END:DAYLIGHT
BEGIN:STANDARD
TZOFFSETFROM:+0200
TZOFFSETTO:+0100
TZNAME:CET
DTSTART:20211031T010000
END:STANDARD
END:VTIMEZONE
BEGIN:VEVENT
DTSTART;TZID=Europe/Berlin:20211118T173000
DTEND;TZID=Europe/Berlin:20211118T193000
DTSTAMP:20260425T004144
CREATED:20211026T090618Z
LAST-MODIFIED:20211026T090618Z
UID:8025-1637256600-1637263800@www.kjt.lu
SUMMARY:Round table - Stop CSAM
DESCRIPTION:We hereby invite you to the round table of the campaign “Stop sexual violence against children”. We want to make a difference and your support is crucial! \nRegistration via the website of the campaign.
URL:https://www.kjt.lu/en/event/round-table-stop-csam/
ATTACH;FMTTYPE=image/png:https://www.kjt.lu/wp-content/uploads/2021/10/Table-ronde-save-the-date_kjtz.png
END:VEVENT
END:VCALENDAR