BEGIN:VCALENDAR
VERSION:2.0
PRODID:-//KJT - ECPv6.10.2//NONSGML v1.0//EN
CALSCALE:GREGORIAN
METHOD:PUBLISH
X-WR-CALNAME:KJT
X-ORIGINAL-URL:https://www.kjt.lu/en/
X-WR-CALDESC:Events for KJT
REFRESH-INTERVAL;VALUE=DURATION:PT1H
X-Robots-Tag:noindex
X-PUBLISHED-TTL:PT1H
BEGIN:VTIMEZONE
TZID:Europe/Berlin
BEGIN:DAYLIGHT
TZOFFSETFROM:+0100
TZOFFSETTO:+0200
TZNAME:CEST
DTSTART:20250330T010000
END:DAYLIGHT
BEGIN:STANDARD
TZOFFSETFROM:+0200
TZOFFSETTO:+0100
TZNAME:CET
DTSTART:20251026T010000
END:STANDARD
BEGIN:DAYLIGHT
TZOFFSETFROM:+0100
TZOFFSETTO:+0200
TZNAME:CEST
DTSTART:20260329T010000
END:DAYLIGHT
BEGIN:STANDARD
TZOFFSETFROM:+0200
TZOFFSETTO:+0100
TZNAME:CET
DTSTART:20261025T010000
END:STANDARD
END:VTIMEZONE
BEGIN:VEVENT
DTSTART;TZID=Europe/Berlin:20251003T150000
DTEND;TZID=Europe/Berlin:20251003T173000
DTSTAMP:20260421T021821
CREATED:20250929T090512Z
LAST-MODIFIED:20250929T090512Z
UID:15650-1759503600-1759512600@www.kjt.lu
SUMMARY:Ambassador of KJT @ „Zesumme Gesond“
DESCRIPTION:Our ambassadors will be represented with an information stand at the ‘Zesumme Gesond’ conference. \nThis event\, organised by the municipality of Betzdorf and Croix-rouge\, will feature many exciting workshops\, lectures and information stands on the topic of mental health.
URL:https://www.kjt.lu/en/event/ambassador-of-kjt-zesumme-gesond/
LOCATION:Centre Culturel Mensdorf\, 8\, rue de l'Église\, Mensdorf Betzdorf\, 6933
CATEGORIES:Ambassador KJT
ATTACH;FMTTYPE=image/jpeg:https://www.kjt.lu/wp-content/uploads/2025/09/1Social-Media-Flyer.jpg
END:VEVENT
BEGIN:VEVENT
DTSTART;TZID=Europe/Berlin:20251007T090000
DTEND;TZID=Europe/Berlin:20251007T120000
DTSTAMP:20260421T021821
CREATED:20250929T092423Z
LAST-MODIFIED:20250929T092423Z
UID:15664-1759827600-1759838400@www.kjt.lu
SUMMARY:Ambassador of KJT @ Foire vum Jugendsecteur 2025
DESCRIPTION:The KJT ambassador team will be present with an information stand at the ‘Foire vum Jugendsecteur’. \nWe are looking forward to spending the morning at the Forum Geesseknäppchen and to a great fair\, where other organisations will also be presenting themselves alongside the KJT.
URL:https://www.kjt.lu/en/event/ambassador-of-kjt-foire-vum-jugendsecteur-2025/
LOCATION:Forum Geeseknäppchen\, 40 Bd Pierre Dupong\, Luxembourg\, 1430\, Luxemburg
CATEGORIES:Ambassador KJT
ATTACH;FMTTYPE=image/jpeg:https://www.kjt.lu/wp-content/uploads/2025/09/foire-vum-Jugendsecteur.jpg
END:VEVENT
BEGIN:VEVENT
DTSTART;TZID=Europe/Berlin:20251007T174500
DTEND;TZID=Europe/Berlin:20251007T230000
DTSTAMP:20260421T021821
CREATED:20250929T095106Z
LAST-MODIFIED:20250929T095106Z
UID:15678-1759859100-1759878000@www.kjt.lu
SUMMARY:Ambassador of KJT @ SOIREE CINé-DéBAT
DESCRIPTION:As part of the 14th edition of National Suicide Prevention Day\, this event will focus on suicide prevention among young people. \nAn interesting programme awaits us\, featuring the documentary film ‘Not Alone’ (2017) and an exciting debate afterwards. In addition to associations such as Rosa Lëtzebuerg and Trauerwee\, as well as the Librairie Promoculture\, we will also be represented with an information stand.
URL:https://www.kjt.lu/en/event/ambassador-of-kjt-soiree-cine-debat/
LOCATION:Ariston – Escher Theater\, 9 Rue Pierre Claude\, Esch-sur-Alzette\, 4063\, Luxembourg
CATEGORIES:Ambassador KJT
ATTACH;FMTTYPE=image/jpeg:https://www.kjt.lu/wp-content/uploads/2025/09/Soiree-cine-debat.jpg
END:VEVENT
BEGIN:VEVENT
DTSTART;TZID=Europe/Berlin:20251009T180000
DTEND;TZID=Europe/Berlin:20251009T210000
DTSTAMP:20260421T021821
CREATED:20250929T101628Z
LAST-MODIFIED:20250929T101628Z
UID:15688-1760032800-1760043600@www.kjt.lu
SUMMARY:Ambassador of KJT  @ Stage for Change
DESCRIPTION:Our ambassadors are represented with an information stand at ‘Stage for Change’. \nAs part of this project\, young people work with artists to bring their ideas on the topics of violence and identity to the stage through dance\, rap and theatre. \ndies durch Tanz\, Rap und Theater.
URL:https://www.kjt.lu/en/event/ambassador-of-kjt-stage-for-change/
LOCATION:Cube 521\, 1-3\, Driicht\, Maarnech\, 9764\, Luxembourg
CATEGORIES:Ambassador KJT
ATTACH;FMTTYPE=image/jpeg:https://www.kjt.lu/wp-content/uploads/2025/09/Invitatioun-Stage-for-Change-9.-Oktober-CUBE_Titel.jpg
END:VEVENT
BEGIN:VEVENT
DTSTART;TZID=Europe/Berlin:20251025T090000
DTEND;TZID=Europe/Berlin:20251025T120000
DTSTAMP:20260421T021821
CREATED:20250929T103055Z
LAST-MODIFIED:20250929T103055Z
UID:15701-1761382800-1761393600@www.kjt.lu
SUMMARY:Ambassador of KJT @ Foire scolaire Bisc(h)ool
DESCRIPTION:Foire scolaire Bisc(h)ool\, organised by the school board of the municipality of Bissen. This event\, which is unique in the region\, is aimed at both the children and parents of Bissen Primary School and families from the surrounding area. The aim is to provide them with information about the various offers and services available in the field of education and childhood in Luxembourg. We at KJT will also be represented here with an information stand.
URL:https://www.kjt.lu/en/event/ambassador-of-kjt-foire-scolaire-bischool/
LOCATION:Centre Wonerbatti\, 15 Rue de la Laiterie\, Bissen\, 7783\, Luxembourg
CATEGORIES:Ambassador KJT
END:VEVENT
BEGIN:VEVENT
DTSTART;TZID=Europe/Berlin:20251030T183000
DTEND;TZID=Europe/Berlin:20251030T203000
DTSTAMP:20260421T021821
CREATED:20251006T093159Z
LAST-MODIFIED:20251006T095154Z
UID:15710-1761849000-1761856200@www.kjt.lu
SUMMARY:Web seminar: ‘Expert panel for parents on the topic of pornography’
DESCRIPTION:Take part in the web seminar for parents: \nEmpowering parents\, supporting young people competently: Pornography in the everyday digital lives of young people \n 
URL:https://www.kjt.lu/en/event/web-seminar-expert-panel-for-parents-on-the-topic-of-pornography/
ATTACH;FMTTYPE=image/jpeg:https://www.kjt.lu/wp-content/uploads/2025/10/Elterenowend-Pornografie-Flyer-klein.jpg
END:VEVENT
BEGIN:VEVENT
DTSTART;TZID=Europe/Berlin:20251111T083000
DTEND;TZID=Europe/Berlin:20251111T170000
DTSTAMP:20260421T021821
CREATED:20251006T100529Z
LAST-MODIFIED:20251006T124312Z
UID:15729-1762849800-1762880400@www.kjt.lu
SUMMARY:Training for professionals: Let's Talk about Sex! Journée Toolkit
DESCRIPTION:
URL:https://www.kjt.lu/en/event/training-for-professionals-lets-talk-about-sex-journee-toolkit/
LOCATION:Forum Geeseknäppchen\, 40 Bd Pierre Dupong\, Luxembourg\, 1430\, Luxemburg
CATEGORIES:Training for professionals:
ATTACH;FMTTYPE=image/jpeg:https://www.kjt.lu/wp-content/uploads/2025/10/Journee-Toolkit-1.jpg
END:VEVENT
BEGIN:VEVENT
DTSTART;TZID=Europe/Berlin:20251115T190000
DTEND;TZID=Europe/Berlin:20251115T233000
DTSTAMP:20260421T021821
CREATED:20251112T092407Z
LAST-MODIFIED:20251112T092407Z
UID:15799-1763233200-1763249400@www.kjt.lu
SUMMARY:City Party at the Atelier
DESCRIPTION:The KJT ambassador team will be present with an information stand at the City Party in the Atelier. \nAt the ‘City Party’ organised by the city’s Service Jeunesse (Youth Department)\, several Luxembourgish artists will make the stage of ‘den Atelier’ vibrate and offer young people between the ages of 12 and 17 the opportunity to party to rousing rhythms.
URL:https://www.kjt.lu/en/event/city-party-at-the-atelier-2/
CATEGORIES:Ambassador KJT
ATTACH;FMTTYPE=image/jpeg:https://www.kjt.lu/wp-content/uploads/2025/11/VDL_CityParty_cover_fb_event_1280x960px_20251021.jpg
END:VEVENT
BEGIN:VEVENT
DTSTART;TZID=Europe/Berlin:20251123T100000
DTEND;TZID=Europe/Berlin:20251123T190000
DTSTAMP:20260421T021821
CREATED:20251112T093825Z
LAST-MODIFIED:20251112T093825Z
UID:15808-1763892000-1763924400@www.kjt.lu
SUMMARY:Solidarity Day
DESCRIPTION:The KJT ambassador team will be present with an information stand at the ‘Solidarity Day’ in Sandweiler.
URL:https://www.kjt.lu/en/event/solidarity-day/
LOCATION:Centre Culturel Sandweiler\, 20 Rue Principale\, Sandweiler\, 5240
CATEGORIES:Ambassador KJT
END:VEVENT
BEGIN:VEVENT
DTSTART;TZID=Europe/Berlin:20260314T130000
DTEND;TZID=Europe/Berlin:20260314T171500
DTSTAMP:20260421T021821
CREATED:20260304T125127Z
LAST-MODIFIED:20260304T125440Z
UID:15987-1773493200-1773508500@www.kjt.lu
SUMMARY:Ambassador of KJT @ Orientation Day
DESCRIPTION:The KJT will have an information stand at the Orientation Day \nThe Orientation Day facilitates access to information\, orientation in daily life\, and civic participation in the Grand Duchy of Luxembourg. At this event you can find out about administrative procedures at information stands from a multitude of ministries\, administrations\, and associations\, exchange views with players in Luxembourg’s associative and cultural life at various interactive workshops and share your experiences of life in Luxembourg with other participants.
URL:https://www.kjt.lu/en/event/ambassador-of-kjt-orientation-day-2/
LOCATION:European Convention Center (ECCL)\, 4 place de l’Europe\, Luxembourg\, 1499\, Luxembourg
CATEGORIES:Ambassador KJT,event
ATTACH;FMTTYPE=image/png:https://www.kjt.lu/wp-content/uploads/2025/08/Orientierungstag.png
ORGANIZER;CN="Biergerpakt":MAILTO:biergerpakt.zesummeliewen@fm.etat.lu
END:VEVENT
BEGIN:VEVENT
DTSTART;TZID=Europe/Berlin:20260509T140000
DTEND;TZID=Europe/Berlin:20260509T233000
DTSTAMP:20260421T021821
CREATED:20260129T111036Z
LAST-MODIFIED:20260330T100002Z
UID:15940-1778335200-1778369400@www.kjt.lu
SUMMARY:MUSIC & FAMILY FESTIVAL: Messtival Vol. 5
DESCRIPTION:We are happy to have once again a stand at the Messtival this year. \nWe look forward to seeing you there! More information at: \n \nhttps://reckange.lu/events/
URL:https://www.kjt.lu/en/event/music-family-festival-messtival-vol-5/
LOCATION:RECKENG OP DER MESS – GEMENGENATELIER\, 53\, rue Jean-Pierre Hilger\, Reckange-sur-Mess\, 4980\, Luxemburg
CATEGORIES:Ambassador KJT,event
ATTACH;FMTTYPE=image/jpeg:https://www.kjt.lu/wp-content/uploads/2026/01/20260509_Square_Messtival-01.jpg
END:VEVENT
BEGIN:VEVENT
DTSTART;VALUE=DATE:20260617
DTEND;VALUE=DATE:20260618
DTSTAMP:20260421T021821
CREATED:20260129T112431Z
LAST-MODIFIED:20260330T094919Z
UID:15949-1781654400-1781740799@www.kjt.lu
SUMMARY:Kannerrechtsrallye - Children's rights rally
DESCRIPTION:The KJT ambassador team will be there with an information stand and will organise activities for visitors to take part in on the topic of children’s rights and KJT. \n 
URL:https://www.kjt.lu/en/event/kannerrechtsrallye-childrens-rights-rally/
LOCATION:Centre Cinqfontaines\, 2 Klousterstrooss\, Cinqfontaines Wincrange\, 9902
CATEGORIES:Ambassador KJT,event
ATTACH;FMTTYPE=image/jpeg:https://www.kjt.lu/wp-content/uploads/2026/01/Flyer-Kannerrechtsrallye-Centre-Cinqfontaines-2026_Page_1-1.jpg
END:VEVENT
BEGIN:VEVENT
DTSTART;TZID=Europe/Berlin:20261122T100000
DTEND;TZID=Europe/Berlin:20261122T190000
DTSTAMP:20260421T021821
CREATED:20260129T112816Z
LAST-MODIFIED:20260129T113011Z
UID:15953-1795341600-1795374000@www.kjt.lu
SUMMARY:Solidarity Day
DESCRIPTION:The KJT ambassador team will be present with an information stand at the ‘Solidarity Day’ in Sandweiler.
URL:https://www.kjt.lu/en/event/solidarity-day-2026/
LOCATION:Centre Culturel Sandweiler\, 20 Rue Principale\, Sandweiler\, 5240
CATEGORIES:Ambassador KJT,event
END:VEVENT
END:VCALENDAR