BEGIN:VCALENDAR
VERSION:2.0
PRODID:-//KJT - ECPv6.10.2//NONSGML v1.0//EN
CALSCALE:GREGORIAN
METHOD:PUBLISH
X-WR-CALNAME:KJT
X-ORIGINAL-URL:https://www.kjt.lu/en/
X-WR-CALDESC:Events for KJT
REFRESH-INTERVAL;VALUE=DURATION:PT1H
X-Robots-Tag:noindex
X-PUBLISHED-TTL:PT1H
BEGIN:VTIMEZONE
TZID:Europe/Berlin
BEGIN:DAYLIGHT
TZOFFSETFROM:+0100
TZOFFSETTO:+0200
TZNAME:CEST
DTSTART:20210328T010000
END:DAYLIGHT
BEGIN:STANDARD
TZOFFSETFROM:+0200
TZOFFSETTO:+0100
TZNAME:CET
DTSTART:20211031T010000
END:STANDARD
BEGIN:DAYLIGHT
TZOFFSETFROM:+0100
TZOFFSETTO:+0200
TZNAME:CEST
DTSTART:20220327T010000
END:DAYLIGHT
BEGIN:STANDARD
TZOFFSETFROM:+0200
TZOFFSETTO:+0100
TZNAME:CET
DTSTART:20221030T010000
END:STANDARD
END:VTIMEZONE
BEGIN:VEVENT
DTSTART;TZID=Europe/Berlin:20220519T100000
DTEND;TZID=Europe/Berlin:20220519T180000
DTSTAMP:20260425T144855
CREATED:20220511T103836Z
LAST-MODIFIED:20220511T103836Z
UID:10724-1652954400-1652983200@www.kjt.lu
SUMMARY:World play day 2022
DESCRIPTION:KJT is once again taking part in World Play Day\, which is celebrated in the area of the Piquet in Luxembourg City.\nVarious organisations offer numerous play opportunities for young and old throughout the day
URL:https://www.kjt.lu/en/event/world-play-day-2022/
LOCATION:Luxemburg Stadt\, Luxemburg
ATTACH;FMTTYPE=image/png:https://www.kjt.lu/wp-content/uploads/2022/05/Weltspilldag_klein.png
END:VEVENT
BEGIN:VEVENT
DTSTART;TZID=Europe/Berlin:20220517T080000
DTEND;TZID=Europe/Berlin:20220517T200000
DTSTAMP:20260425T144855
CREATED:20220510T104931Z
LAST-MODIFIED:20220511T105226Z
UID:3851-1652774400-1652817600@www.kjt.lu
SUMMARY:International Child Helpline Day
DESCRIPTION:17th May is International Child Helpline Day. \nThe Kanner-Jugendtelefon 1 1 6 1 1 1 is the national helpline for children and young people in Luxembourg. KJT is a member of (CHI) Child Helpline International\, the world federation of child and youth helplines.\nChild Helpline International represents 173 helplines from a total of 142 countries.
URL:https://www.kjt.lu/en/event/international-child-helpline-day/
ATTACH;FMTTYPE=image/png:https://www.kjt.lu/wp-content/uploads/2021/05/ChildHelpline-2022-klein.png
END:VEVENT
BEGIN:VEVENT
DTSTART;TZID=Europe/Berlin:20211118T173000
DTEND;TZID=Europe/Berlin:20211118T193000
DTSTAMP:20260425T144855
CREATED:20211026T090618Z
LAST-MODIFIED:20211026T090618Z
UID:8025-1637256600-1637263800@www.kjt.lu
SUMMARY:Round table - Stop CSAM
DESCRIPTION:We hereby invite you to the round table of the campaign “Stop sexual violence against children”. We want to make a difference and your support is crucial! \nRegistration via the website of the campaign.
URL:https://www.kjt.lu/en/event/round-table-stop-csam/
ATTACH;FMTTYPE=image/png:https://www.kjt.lu/wp-content/uploads/2021/10/Table-ronde-save-the-date_kjtz.png
END:VEVENT
BEGIN:VEVENT
DTSTART;TZID=Europe/Berlin:20211007T193000
DTEND;TZID=Europe/Berlin:20211007T210000
DTSTAMP:20260425T144855
CREATED:20210914T115614Z
LAST-MODIFIED:20210914T115618Z
UID:7529-1633635000-1633640400@www.kjt.lu
SUMMARY:DokuDebates Generation Helicopter Parents
DESCRIPTION:On 7.10.2021 at 7:30pm\, a new series of DokuDebates will begin\, aimed specifically at parents. The ZDF production “Generation Helicopter Parents” (Part 1\, in German) will kick off the programme. \nMore information and registration on the website of the ErwuesseBildung.
URL:https://www.kjt.lu/en/event/dokudebates-generation-helicopter-parents/
END:VEVENT
BEGIN:VEVENT
DTSTART;VALUE=DATE:20211006
DTEND;VALUE=DATE:20211008
DTSTAMP:20260425T144855
CREATED:20210819T132937Z
LAST-MODIFIED:20210906T144330Z
UID:7060-1633478400-1633651199@www.kjt.lu
SUMMARY:12th Suicide Prevention Days
DESCRIPTION:The Service Information et Prévention de la Ligue is honoured to invite you to the National Suicide Prevention Days which will take place from 6th to 7th of October 2021. \nMore information is available on the Suicide Prevention website.
URL:https://www.kjt.lu/en/event/suicide-prevention-days/
ATTACH;FMTTYPE=image/png:https://www.kjt.lu/wp-content/uploads/2021/08/logo-prevention-suicide-1-e1629381948421.png
END:VEVENT
BEGIN:VEVENT
DTSTART;VALUE=DATE:20211006
DTEND;VALUE=DATE:20211008
DTSTAMP:20260425T144855
CREATED:20210819T131952Z
LAST-MODIFIED:20210819T141703Z
UID:7057-1633478400-1633651199@www.kjt.lu
SUMMARY:Safer Internet Forum 2021 - Save the date
DESCRIPTION:The Safer Internet Forum (SIF) is a key annual international conference in Europe where policy makers\, researchers\, law enforcement bodies\, youth\, parents and carers\, teachers\, NGOs\, industry representatives\, experts and other relevant actors come together to discuss the latest trends\, opportunities\, risks and solutions related to child online safety. This year’s edition will take place online and will explore how to make Europe’s Digital Decade fit for children and young people. \nThe 2021 Safer Internet Forum will showcase key findings from the recent digital principles consultation\, amplifying the voices of children and young people to deliver a vision for a #DigitalDecade4YOUth. The event will highlight the priorities that different groups\, including parents\, carers and teachers\, have identified in order to fulfil children’s rights in a digital world\, while allowing them to engage\, create and contribute within safe\, ethical and inclusive online spaces. \nCurrently available information can be read here.
URL:https://www.kjt.lu/en/event/safer-internet-forum-2021-save-the-date/
ATTACH;FMTTYPE=image/jpeg:https://www.kjt.lu/wp-content/uploads/2021/08/Save-the-date-SIF2021-780x192-1.jpg
END:VEVENT
BEGIN:VEVENT
DTSTART;VALUE=DATE:20210926
DTEND;VALUE=DATE:20210927
DTSTAMP:20260425T144855
CREATED:20210909T111841Z
LAST-MODIFIED:20210920T110626Z
UID:7435-1632614400-1632700799@www.kjt.lu
SUMMARY:Kanner-Rechts-Fest
DESCRIPTION:A children’s rights festival will take place in the Parc Merveilleux in Bettembourg on 26 September. The KJT will be represented with a stand.
URL:https://www.kjt.lu/en/event/kanner-rechts-fest/
LOCATION:Parc Merveilleux de Bettembourg
ATTACH;FMTTYPE=image/jpeg:https://www.kjt.lu/wp-content/uploads/2021/09/Kannerrechtsfest_flyer-2.jpg
END:VEVENT
BEGIN:VEVENT
DTSTART;VALUE=DATE:20210920
DTEND;VALUE=DATE:20210925
DTSTAMP:20260425T144855
CREATED:20210819T130646Z
LAST-MODIFIED:20210819T130646Z
UID:7049-1632096000-1632527999@www.kjt.lu
SUMMARY:15th International Conference "Keeping Children and Young People Safe Online"
DESCRIPTION:15th International Conference “Keeping Children and Young People Safe Online” is one of the largest events on online threats and safety in Europe. It is addressed to representatives of the education sector\, scientists\, experts\, non-governmental organizations\, public administration and the Internet industry. \nThe organizer of the conference is the Polish Safer Internet Center (PCPSI)\, which comprises the NASK National Research Institute and the Empowering Children Foundation\, and the German klicksafe consortium. \nInformation and registration here.
URL:https://www.kjt.lu/en/event/15th-international-conference-keeping-children-and-young-people-safe-online/
ATTACH;FMTTYPE=image/png:https://www.kjt.lu/wp-content/uploads/2021/08/15-International-Conference.png
END:VEVENT
BEGIN:VEVENT
DTSTART;VALUE=DATE:20210702
DTEND;VALUE=DATE:20210703
DTSTAMP:20260425T144855
CREATED:20210510T102031Z
LAST-MODIFIED:20210510T102031Z
UID:3841-1625184000-1625270399@www.kjt.lu
SUMMARY:City Rallye
DESCRIPTION:This year’s City Rally\, which lasts several days\, revolves around the theme “Youth Goals – Your Future\, Your Goals” and is aimed at young people in 4e\, 3e and 2e.\nThe rally aims to raise awareness and sensitise the students to the challenges of their time and to reflect on their lives and daily habits.\nThe City Rally will take place on the following fridays from 10 am to 4 pm: \n\n04.06.2021\n11.06.2021\n18.06.2021\n25.06.2021\n02.07.2021\n09.07.2021
URL:https://www.kjt.lu/en/event/city-rallye/
ATTACH;FMTTYPE=image/png:https://www.kjt.lu/wp-content/uploads/2021/05/city-rallye.png
END:VEVENT
BEGIN:VEVENT
DTSTART;VALUE=DATE:20210602
DTEND;VALUE=DATE:20210603
DTSTAMP:20260425T144855
CREATED:20210510T104126Z
LAST-MODIFIED:20210511T094550Z
UID:3845-1622592000-1622678399@www.kjt.lu
SUMMARY:INHOPE AGM
DESCRIPTION:The annual general meeting of the INHOPE network takes place today – online.
URL:https://www.kjt.lu/en/event/inhope-agm/
ATTACH;FMTTYPE=image/png:https://www.kjt.lu/wp-content/uploads/2021/05/INHOPE_2012_logo_corner3-2.png
END:VEVENT
BEGIN:VEVENT
DTSTART;VALUE=DATE:20210528
DTEND;VALUE=DATE:20210529
DTSTAMP:20260425T144855
CREATED:20210510T104345Z
LAST-MODIFIED:20210803T114532Z
UID:3847-1622160000-1622246399@www.kjt.lu
SUMMARY:World Play Day - CANCELLED
DESCRIPTION:KJT is once again taking part in World Play Day\, which is celebrated on the Knuedler (Place Guillaume) in Luxembourg City.\nVarious organisations offer numerous play opportunities for young and old throughout the day.
URL:https://www.kjt.lu/en/event/world-play-day-cancelled/
LOCATION:Luxemburg Stadt\, Luxemburg
ATTACH;FMTTYPE=image/png:https://www.kjt.lu/wp-content/uploads/2021/05/Weltspilldag-1.png
END:VEVENT
BEGIN:VEVENT
DTSTART;TZID=Europe/Berlin:20210521T180000
DTEND;TZID=Europe/Berlin:20210521T233000
DTSTAMP:20260425T144855
CREATED:20210510T104616Z
LAST-MODIFIED:20210511T094815Z
UID:3849-1621620000-1621639800@www.kjt.lu
SUMMARY:Teenage Dream - CANCELLED
DESCRIPTION:The KJT is always happy to be part of the Teenage Dream\, organised by Nordstadjugend. The 100% youth-friendly party\, only for young people between 11 and 15 years. From 6 p.m. to 8 p.m. you can find out about the work of the various organisations at the information fair\, the party starts at 8 p.m.!
URL:https://www.kjt.lu/en/event/teenage-dream-cancelled/
ATTACH;FMTTYPE=image/jpeg:https://www.kjt.lu/wp-content/uploads/2021/05/teenage-dream-1.jpg
END:VEVENT
END:VCALENDAR