BEGIN:VCALENDAR
VERSION:2.0
PRODID:-//KJT - ECPv6.10.2//NONSGML v1.0//EN
CALSCALE:GREGORIAN
METHOD:PUBLISH
X-ORIGINAL-URL:https://www.kjt.lu/en/
X-WR-CALDESC:Events for KJT
REFRESH-INTERVAL;VALUE=DURATION:PT1H
X-Robots-Tag:noindex
X-PUBLISHED-TTL:PT1H
BEGIN:VTIMEZONE
TZID:Europe/Berlin
BEGIN:DAYLIGHT
TZOFFSETFROM:+0100
TZOFFSETTO:+0200
TZNAME:CEST
DTSTART:20250330T010000
END:DAYLIGHT
BEGIN:STANDARD
TZOFFSETFROM:+0200
TZOFFSETTO:+0100
TZNAME:CET
DTSTART:20251026T010000
END:STANDARD
END:VTIMEZONE
BEGIN:VEVENT
DTSTART;TZID=Europe/Berlin:20250911T090000
DTEND;TZID=Europe/Berlin:20250911T130000
DTSTAMP:20260419T204939
CREATED:20250813T090508Z
LAST-MODIFIED:20250813T090508Z
UID:15623-1757581200-1757595600@www.kjt.lu
SUMMARY:Ambassador of KJT @ Matinée Santé
DESCRIPTION:The KJT will be represented with an information stand at the ‘Matinée Santé’. \nEvery year\, Gesond Diddeleng organises a health morning dedicated to all things health-related.\nIn addition to information stands on the town hall square\, there will be consultation hours and mini check-ups in the town hall. Everything is free of charge.
URL:https://www.kjt.lu/en/event/ambassador-of-kjt-matinee-sante/
LOCATION:Dudelange – Place de l’Hotel de Ville\, Place de l’Hôtel de Ville\, Dudelange\, 3590\, Luxembourg
CATEGORIES:Ambassador KJT,event
ATTACH;FMTTYPE=image/png:https://www.kjt.lu/wp-content/uploads/2025/08/MatineeSante-Agenda.png
ORGANIZER;CN="Gesond Diddeleng":MAILTO:gesonddiddeleng@dudelange.lu
END:VEVENT
END:VCALENDAR