BEGIN:VCALENDAR
VERSION:2.0
PRODID:-//KJT - ECPv6.10.2//NONSGML v1.0//EN
CALSCALE:GREGORIAN
METHOD:PUBLISH
X-ORIGINAL-URL:https://www.kjt.lu/en/
X-WR-CALDESC:Events for KJT
REFRESH-INTERVAL;VALUE=DURATION:PT1H
X-Robots-Tag:noindex
X-PUBLISHED-TTL:PT1H
BEGIN:VTIMEZONE
TZID:Europe/Berlin
BEGIN:DAYLIGHT
TZOFFSETFROM:+0100
TZOFFSETTO:+0200
TZNAME:CEST
DTSTART:20250330T010000
END:DAYLIGHT
BEGIN:STANDARD
TZOFFSETFROM:+0200
TZOFFSETTO:+0100
TZNAME:CET
DTSTART:20251026T010000
END:STANDARD
END:VTIMEZONE
BEGIN:VEVENT
DTSTART;TZID=Europe/Berlin:20250523T100000
DTEND;TZID=Europe/Berlin:20250523T153000
DTSTAMP:20260420T020535
CREATED:20250428T123538Z
LAST-MODIFIED:20250428T123538Z
UID:15350-1747994400-1748014200@www.kjt.lu
SUMMARY:Ambassador of KJT @ City Rallye
DESCRIPTION:Also this year the ambassador team represents KJT at the City Rally organized by Jugendrot. They are looking forward meeting the youngsters. It’s great that KJT can be part of this awesome event again.
URL:https://www.kjt.lu/en/event/ambassador-of-kjt-city-rallye/
CATEGORIES:Ambassador KJT,event
ATTACH;FMTTYPE=image/jpeg:https://www.kjt.lu/wp-content/uploads/2023/06/Logo-City-Rallye-1.jpg
END:VEVENT
BEGIN:VEVENT
DTSTART;TZID=Europe/Berlin:20250523T180000
DTEND;TZID=Europe/Berlin:20250523T200000
DTSTAMP:20260420T020535
CREATED:20250428T125023Z
LAST-MODIFIED:20250429T083457Z
UID:15356-1748023200-1748030400@www.kjt.lu
SUMMARY:Teenage Dream
DESCRIPTION:Do you want to party? The KJT is delighted that the Nordstadjugend is once again organising its popular ‘Teenage Dream’. \nEven better that we can celebrate together with you. So visit us on 23 May at our stall in Diekirch at the”Al Seeërei” and let’s get into the party mood together.
URL:https://www.kjt.lu/en/event/teenage-dream-2/
LOCATION:Al Seeërei\, Rue de l'Industrie\, Diekirch\, 9250\, Luxemburg
CATEGORIES:Ambassador KJT,event
ATTACH;FMTTYPE=image/jpeg:https://www.kjt.lu/wp-content/uploads/2024/06/teenage-Dream-2024-ohne-Datum.jpg
END:VEVENT
END:VCALENDAR