BEGIN:VCALENDAR
VERSION:2.0
PRODID:-//KJT - ECPv6.10.2//NONSGML v1.0//EN
CALSCALE:GREGORIAN
METHOD:PUBLISH
X-WR-CALNAME:KJT
X-ORIGINAL-URL:https://www.kjt.lu/en/
X-WR-CALDESC:Events for KJT
REFRESH-INTERVAL;VALUE=DURATION:PT1H
X-Robots-Tag:noindex
X-PUBLISHED-TTL:PT1H
BEGIN:VTIMEZONE
TZID:Europe/Berlin
BEGIN:DAYLIGHT
TZOFFSETFROM:+0100
TZOFFSETTO:+0200
TZNAME:CEST
DTSTART:20250330T010000
END:DAYLIGHT
BEGIN:STANDARD
TZOFFSETFROM:+0200
TZOFFSETTO:+0100
TZNAME:CET
DTSTART:20251026T010000
END:STANDARD
END:VTIMEZONE
BEGIN:VEVENT
DTSTART;TZID=Europe/Berlin:20250510T050000
DTEND;TZID=Europe/Berlin:20250510T080000
DTSTAMP:20260420T020247
CREATED:20250311T093716Z
LAST-MODIFIED:20250311T093716Z
UID:15282-1746853200-1746864000@www.kjt.lu
SUMMARY:Darkness Into Light
DESCRIPTION:We are in! And you? \nWe\, the KJT\, support Darkness Into Light – a unique initiative to think of all the children\, teenagers\, young adults and adults who are struggling with suicidal thoughts or hurting themselves. \nWe want to tell them that they are not alone and that there is hope. \nTogether we set out to move out of the dark and into the light. \nTrue to our motto: “We are here\, you are not alone.” \nWe would be delighted if you would join us on our journey into the light. \nOn Saturday\, 10 May 2025 at 5 a.m. at the Hall Omnisport in Clausen. \nRegistration and info here: https://www.darknessintolight.ie/event/Luxembourg
URL:https://www.kjt.lu/en/event/darkness-into-light-3/
LOCATION:Hall Omnisport zu Clausen
CATEGORIES:darkness Into Light,event
ATTACH;FMTTYPE=image/jpeg:https://www.kjt.lu/wp-content/uploads/2023/04/darknessIntoLight-klein2.jpg
END:VEVENT
END:VCALENDAR