BEGIN:VCALENDAR
VERSION:2.0
PRODID:-//KJT - ECPv6.10.2//NONSGML v1.0//EN
CALSCALE:GREGORIAN
METHOD:PUBLISH
X-WR-CALNAME:KJT
X-ORIGINAL-URL:https://www.kjt.lu/en/
X-WR-CALDESC:Events for KJT
REFRESH-INTERVAL;VALUE=DURATION:PT1H
X-Robots-Tag:noindex
X-PUBLISHED-TTL:PT1H
BEGIN:VTIMEZONE
TZID:Europe/Berlin
BEGIN:DAYLIGHT
TZOFFSETFROM:+0100
TZOFFSETTO:+0200
TZNAME:CEST
DTSTART:20250330T010000
END:DAYLIGHT
BEGIN:STANDARD
TZOFFSETFROM:+0200
TZOFFSETTO:+0100
TZNAME:CET
DTSTART:20251026T010000
END:STANDARD
END:VTIMEZONE
BEGIN:VEVENT
DTSTART;TZID=Europe/Berlin:20250509T140000
DTEND;TZID=Europe/Berlin:20250509T233000
DTSTAMP:20260420T015512
CREATED:20250428T122558Z
LAST-MODIFIED:20250428T122558Z
UID:15341-1746799200-1746833400@www.kjt.lu
SUMMARY:MUSIC & FAMILY FESTIVAL: Messtival Vol. 4
DESCRIPTION:We are happy to have once again a stand at the Messtival this year. \nWe look forward to seeing you there! More information at: \n  \nhttps://reckange.lu/events/messtival-vol-4/ \n 
URL:https://www.kjt.lu/en/event/music-family-festival-messtival-vol-4/
LOCATION:RECKENG OP DER MESS – GEMENGENATELIER\, 53\, rue Jean-Pierre Hilger\, Reckange-sur-Mess\, 4980\, Luxemburg
CATEGORIES:Ambassador KJT,event
ATTACH;FMTTYPE=image/jpeg:https://www.kjt.lu/wp-content/uploads/2025/04/20250415_Messtival_Definite-Reveal_Campagne_Plan-de-travail-1.jpg
END:VEVENT
END:VCALENDAR