BEGIN:VCALENDAR
VERSION:2.0
PRODID:-//KJT - ECPv6.10.2//NONSGML v1.0//EN
CALSCALE:GREGORIAN
METHOD:PUBLISH
X-ORIGINAL-URL:https://www.kjt.lu/en/
X-WR-CALDESC:Events for KJT
REFRESH-INTERVAL;VALUE=DURATION:PT1H
X-Robots-Tag:noindex
X-PUBLISHED-TTL:PT1H
BEGIN:VTIMEZONE
TZID:Europe/Berlin
BEGIN:DAYLIGHT
TZOFFSETFROM:+0100
TZOFFSETTO:+0200
TZNAME:CEST
DTSTART:20250330T010000
END:DAYLIGHT
BEGIN:STANDARD
TZOFFSETFROM:+0200
TZOFFSETTO:+0100
TZNAME:CET
DTSTART:20251026T010000
END:STANDARD
END:VTIMEZONE
BEGIN:VEVENT
DTSTART;TZID=Europe/Berlin:20250426T190000
DTEND;TZID=Europe/Berlin:20250426T233000
DTSTAMP:20260420T020229
CREATED:20250311T102356Z
LAST-MODIFIED:20250311T102356Z
UID:15303-1745694000-1745710200@www.kjt.lu
SUMMARY:City Party at the Atelier
DESCRIPTION:The KJT ambassador team will be present with an information stand at the City Party in the Atelier. \nAt the ‘City Party’ organised by the city’s Service Jeunesse (Youth Department)\, several Luxembourgish artists will make the stage of ‘den Atelier’ vibrate and offer young people between the ages of 12 and 17 the opportunity to party to rousing rhythms.
URL:https://www.kjt.lu/en/event/city-party-at-the-atelier/
LOCATION:Atelier\, 54 rue de Hollerich\, Luxembourg\, 1740
CATEGORIES:Ambassador KJT,event
ATTACH;FMTTYPE=image/jpeg:https://www.kjt.lu/wp-content/uploads/2025/03/2024085268_VDL_City-Party-automne-2024_FB-Cover.jpg
END:VEVENT
END:VCALENDAR