BEGIN:VCALENDAR
VERSION:2.0
PRODID:-//KJT - ECPv6.10.2//NONSGML v1.0//EN
CALSCALE:GREGORIAN
METHOD:PUBLISH
X-WR-CALNAME:KJT
X-ORIGINAL-URL:https://www.kjt.lu/en/
X-WR-CALDESC:Events for KJT
REFRESH-INTERVAL;VALUE=DURATION:PT1H
X-Robots-Tag:noindex
X-PUBLISHED-TTL:PT1H
BEGIN:VTIMEZONE
TZID:Europe/Berlin
BEGIN:DAYLIGHT
TZOFFSETFROM:+0100
TZOFFSETTO:+0200
TZNAME:CEST
DTSTART:20250330T010000
END:DAYLIGHT
BEGIN:STANDARD
TZOFFSETFROM:+0200
TZOFFSETTO:+0100
TZNAME:CET
DTSTART:20251026T010000
END:STANDARD
END:VTIMEZONE
BEGIN:VEVENT
DTSTART;TZID=Europe/Berlin:20251123T100000
DTEND;TZID=Europe/Berlin:20251123T190000
DTSTAMP:20260421T004507
CREATED:20251112T093825Z
LAST-MODIFIED:20251112T093825Z
UID:15808-1763892000-1763924400@www.kjt.lu
SUMMARY:Solidarity Day
DESCRIPTION:The KJT ambassador team will be present with an information stand at the ‘Solidarity Day’ in Sandweiler.
URL:https://www.kjt.lu/en/event/solidarity-day/
LOCATION:Centre Culturel Sandweiler\, 20 Rue Principale\, Sandweiler\, 5240
CATEGORIES:Ambassador KJT
END:VEVENT
END:VCALENDAR