BEGIN:VCALENDAR
VERSION:2.0
PRODID:-//KJT - ECPv6.10.2//NONSGML v1.0//EN
CALSCALE:GREGORIAN
METHOD:PUBLISH
X-WR-CALNAME:KJT
X-ORIGINAL-URL:https://www.kjt.lu/en/
X-WR-CALDESC:Events for KJT
REFRESH-INTERVAL;VALUE=DURATION:PT1H
X-Robots-Tag:noindex
X-PUBLISHED-TTL:PT1H
BEGIN:VTIMEZONE
TZID:Europe/Berlin
BEGIN:DAYLIGHT
TZOFFSETFROM:+0100
TZOFFSETTO:+0200
TZNAME:CEST
DTSTART:20250330T010000
END:DAYLIGHT
BEGIN:STANDARD
TZOFFSETFROM:+0200
TZOFFSETTO:+0100
TZNAME:CET
DTSTART:20251026T010000
END:STANDARD
END:VTIMEZONE
BEGIN:VEVENT
DTSTART;TZID=Europe/Berlin:20251111T083000
DTEND;TZID=Europe/Berlin:20251111T170000
DTSTAMP:20260421T004507
CREATED:20251006T100529Z
LAST-MODIFIED:20251006T124312Z
UID:15729-1762849800-1762880400@www.kjt.lu
SUMMARY:Training for professionals: Let's Talk about Sex! Journée Toolkit
DESCRIPTION:
URL:https://www.kjt.lu/en/event/training-for-professionals-lets-talk-about-sex-journee-toolkit/
LOCATION:Forum Geeseknäppchen\, 40 Bd Pierre Dupong\, Luxembourg\, 1430\, Luxemburg
CATEGORIES:Training for professionals:
ATTACH;FMTTYPE=image/jpeg:https://www.kjt.lu/wp-content/uploads/2025/10/Journee-Toolkit-1.jpg
END:VEVENT
END:VCALENDAR