BEGIN:VCALENDAR
VERSION:2.0
PRODID:-//KJT - ECPv6.10.2//NONSGML v1.0//EN
CALSCALE:GREGORIAN
METHOD:PUBLISH
X-WR-CALNAME:KJT
X-ORIGINAL-URL:https://www.kjt.lu/en/
X-WR-CALDESC:Events for KJT
REFRESH-INTERVAL;VALUE=DURATION:PT1H
X-Robots-Tag:noindex
X-PUBLISHED-TTL:PT1H
BEGIN:VTIMEZONE
TZID:Europe/Berlin
BEGIN:DAYLIGHT
TZOFFSETFROM:+0100
TZOFFSETTO:+0200
TZNAME:CEST
DTSTART:20250330T010000
END:DAYLIGHT
BEGIN:STANDARD
TZOFFSETFROM:+0200
TZOFFSETTO:+0100
TZNAME:CET
DTSTART:20251026T010000
END:STANDARD
END:VTIMEZONE
BEGIN:VEVENT
DTSTART;TZID=Europe/Berlin:20251009T180000
DTEND;TZID=Europe/Berlin:20251009T210000
DTSTAMP:20260421T004516
CREATED:20250929T101628Z
LAST-MODIFIED:20250929T101628Z
UID:15688-1760032800-1760043600@www.kjt.lu
SUMMARY:Ambassador of KJT  @ Stage for Change
DESCRIPTION:Our ambassadors are represented with an information stand at ‘Stage for Change’. \nAs part of this project\, young people work with artists to bring their ideas on the topics of violence and identity to the stage through dance\, rap and theatre. \ndies durch Tanz\, Rap und Theater.
URL:https://www.kjt.lu/en/event/ambassador-of-kjt-stage-for-change/
LOCATION:Cube 521\, 1-3\, Driicht\, Maarnech\, 9764\, Luxembourg
CATEGORIES:Ambassador KJT
ATTACH;FMTTYPE=image/jpeg:https://www.kjt.lu/wp-content/uploads/2025/09/Invitatioun-Stage-for-Change-9.-Oktober-CUBE_Titel.jpg
END:VEVENT
END:VCALENDAR