BEGIN:VCALENDAR
VERSION:2.0
PRODID:-//KJT - ECPv6.10.2//NONSGML v1.0//EN
CALSCALE:GREGORIAN
METHOD:PUBLISH
X-WR-CALNAME:KJT
X-ORIGINAL-URL:https://www.kjt.lu/en/
X-WR-CALDESC:Events for KJT
REFRESH-INTERVAL;VALUE=DURATION:PT1H
X-Robots-Tag:noindex
X-PUBLISHED-TTL:PT1H
BEGIN:VTIMEZONE
TZID:Europe/Berlin
BEGIN:DAYLIGHT
TZOFFSETFROM:+0100
TZOFFSETTO:+0200
TZNAME:CEST
DTSTART:20250330T010000
END:DAYLIGHT
BEGIN:STANDARD
TZOFFSETFROM:+0200
TZOFFSETTO:+0100
TZNAME:CET
DTSTART:20251026T010000
END:STANDARD
END:VTIMEZONE
BEGIN:VEVENT
DTSTART;TZID=Europe/Berlin:20251007T090000
DTEND;TZID=Europe/Berlin:20251007T120000
DTSTAMP:20260422T122140
CREATED:20250929T092423Z
LAST-MODIFIED:20250929T092423Z
UID:15664-1759827600-1759838400@www.kjt.lu
SUMMARY:Ambassador of KJT @ Foire vum Jugendsecteur 2025
DESCRIPTION:The KJT ambassador team will be present with an information stand at the ‘Foire vum Jugendsecteur’. \nWe are looking forward to spending the morning at the Forum Geesseknäppchen and to a great fair\, where other organisations will also be presenting themselves alongside the KJT.
URL:https://www.kjt.lu/en/event/ambassador-of-kjt-foire-vum-jugendsecteur-2025/
LOCATION:Forum Geeseknäppchen\, 40 Bd Pierre Dupong\, Luxembourg\, 1430\, Luxemburg
CATEGORIES:Ambassador KJT
ATTACH;FMTTYPE=image/jpeg:https://www.kjt.lu/wp-content/uploads/2025/09/foire-vum-Jugendsecteur.jpg
END:VEVENT
BEGIN:VEVENT
DTSTART;TZID=Europe/Berlin:20251007T174500
DTEND;TZID=Europe/Berlin:20251007T230000
DTSTAMP:20260422T122140
CREATED:20250929T095106Z
LAST-MODIFIED:20250929T095106Z
UID:15678-1759859100-1759878000@www.kjt.lu
SUMMARY:Ambassador of KJT @ SOIREE CINé-DéBAT
DESCRIPTION:As part of the 14th edition of National Suicide Prevention Day\, this event will focus on suicide prevention among young people. \nAn interesting programme awaits us\, featuring the documentary film ‘Not Alone’ (2017) and an exciting debate afterwards. In addition to associations such as Rosa Lëtzebuerg and Trauerwee\, as well as the Librairie Promoculture\, we will also be represented with an information stand.
URL:https://www.kjt.lu/en/event/ambassador-of-kjt-soiree-cine-debat/
LOCATION:Ariston – Escher Theater\, 9 Rue Pierre Claude\, Esch-sur-Alzette\, 4063\, Luxembourg
CATEGORIES:Ambassador KJT
ATTACH;FMTTYPE=image/jpeg:https://www.kjt.lu/wp-content/uploads/2025/09/Soiree-cine-debat.jpg
END:VEVENT
END:VCALENDAR