BEGIN:VCALENDAR
VERSION:2.0
PRODID:-//KJT - ECPv6.10.2//NONSGML v1.0//EN
CALSCALE:GREGORIAN
METHOD:PUBLISH
X-ORIGINAL-URL:https://www.kjt.lu/en/
X-WR-CALDESC:Events for KJT
REFRESH-INTERVAL;VALUE=DURATION:PT1H
X-Robots-Tag:noindex
X-PUBLISHED-TTL:PT1H
BEGIN:VTIMEZONE
TZID:Europe/Berlin
BEGIN:DAYLIGHT
TZOFFSETFROM:+0100
TZOFFSETTO:+0200
TZNAME:CEST
DTSTART:20230326T010000
END:DAYLIGHT
BEGIN:STANDARD
TZOFFSETFROM:+0200
TZOFFSETTO:+0100
TZNAME:CET
DTSTART:20231029T010000
END:STANDARD
END:VTIMEZONE
BEGIN:VEVENT
DTSTART;TZID=Europe/Berlin:20230717T080000
DTEND;TZID=Europe/Berlin:20230727T170000
DTSTAMP:20260421T122842
CREATED:20230621T104048Z
LAST-MODIFIED:20230621T105912Z
UID:14077-1689580800-1690477200@www.kjt.lu
SUMMARY:Ambassador of KJT @ Mini-Lënster - Spillstad
DESCRIPTION:After a (forced) break of a few years\, the play city Mini-Lënster will be brought back to life this summer by SEA Päiperléck. The ambassadors of the KJT are also on the grid and let the children and young people immerse themselves in the world of the KJT.
URL:https://www.kjt.lu/en/event/ambassador-of-the-kjt-mini-lenster-spillstad/
CATEGORIES:Ambassador KJT
ATTACH;FMTTYPE=image/webp:https://www.kjt.lu/wp-content/uploads/2023/06/MiniLenster.webp
END:VEVENT
END:VCALENDAR