BEGIN:VCALENDAR
VERSION:2.0
PRODID:-//KJT - ECPv6.10.2//NONSGML v1.0//EN
CALSCALE:GREGORIAN
METHOD:PUBLISH
X-WR-CALNAME:KJT
X-ORIGINAL-URL:https://www.kjt.lu/en/
X-WR-CALDESC:Events for KJT
REFRESH-INTERVAL;VALUE=DURATION:PT1H
X-Robots-Tag:noindex
X-PUBLISHED-TTL:PT1H
BEGIN:VTIMEZONE
TZID:Europe/Berlin
BEGIN:DAYLIGHT
TZOFFSETFROM:+0100
TZOFFSETTO:+0200
TZNAME:CEST
DTSTART:20230326T010000
END:DAYLIGHT
BEGIN:STANDARD
TZOFFSETFROM:+0200
TZOFFSETTO:+0100
TZNAME:CET
DTSTART:20231029T010000
END:STANDARD
END:VTIMEZONE
BEGIN:VEVENT
DTSTART;TZID=Europe/Berlin:20230525T100000
DTEND;TZID=Europe/Berlin:20230525T173000
DTSTAMP:20260421T232253
CREATED:20230508T130737Z
LAST-MODIFIED:20230508T130737Z
UID:13924-1685008800-1685035800@www.kjt.lu
SUMMARY:World Play Day 2023
DESCRIPTION:KJT is once again taking part in World Play Day\, which is celebrated on the Place Hamilius in Luxembourg City.\nVarious organisations offer numerous play opportunities for young and old throughout the day.
URL:https://www.kjt.lu/en/event/world-play-day-2023/
LOCATION:Place Hamilius
ATTACH;FMTTYPE=image/jpeg:https://www.kjt.lu/wp-content/uploads/2023/05/Weltspilldag-2023-kleinjpg.jpg
END:VEVENT
END:VCALENDAR