BEGIN:VCALENDAR
VERSION:2.0
PRODID:-//KJT - ECPv6.10.2//NONSGML v1.0//EN
CALSCALE:GREGORIAN
METHOD:PUBLISH
X-ORIGINAL-URL:https://www.kjt.lu/en/
X-WR-CALDESC:Events for KJT
REFRESH-INTERVAL;VALUE=DURATION:PT1H
X-Robots-Tag:noindex
X-PUBLISHED-TTL:PT1H
BEGIN:VTIMEZONE
TZID:Europe/Berlin
BEGIN:DAYLIGHT
TZOFFSETFROM:+0100
TZOFFSETTO:+0200
TZNAME:CEST
DTSTART:20230326T010000
END:DAYLIGHT
BEGIN:STANDARD
TZOFFSETFROM:+0200
TZOFFSETTO:+0100
TZNAME:CET
DTSTART:20231029T010000
END:STANDARD
END:VTIMEZONE
BEGIN:VEVENT
DTSTART;TZID=Europe/Berlin:20230517T080000
DTEND;TZID=Europe/Berlin:20230517T170000
DTSTAMP:20260422T193748
CREATED:20230515T095502Z
LAST-MODIFIED:20230515T101648Z
UID:13937-1684310400-1684342800@www.kjt.lu
SUMMARY:International Childhelpline Day 2023
DESCRIPTION:T 17th May is International Child Helpline Day. \nThe Kanner-Jugendtelefon 1 1 6 1 1 1 is the national helpline for children and young people in Luxembourg. KJT is a member of (CHI) Child Helpline International\, the world federation of child and youth helplines.\nChild Helpline International represents 159 helplines from a total of 135 countries.
URL:https://www.kjt.lu/en/event/international-childhelpline-day-2023/
ATTACH;FMTTYPE=image/png:https://www.kjt.lu/wp-content/uploads/2021/05/ChildHelpline-2022-klein.png
END:VEVENT
END:VCALENDAR