BEGIN:VCALENDAR
VERSION:2.0
PRODID:-//KJT - ECPv5.8.1//NONSGML v1.0//EN
CALSCALE:GREGORIAN
METHOD:PUBLISH
X-WR-CALNAME:KJT
X-ORIGINAL-URL:https://www.kjt.lu/de/
X-WR-CALDESC:Veranstaltungen für KJT
BEGIN:VTIMEZONE
TZID:Europe/Berlin
BEGIN:DAYLIGHT
TZOFFSETFROM:+0100
TZOFFSETTO:+0200
TZNAME:CEST
DTSTART:20210328T010000
END:DAYLIGHT
BEGIN:STANDARD
TZOFFSETFROM:+0200
TZOFFSETTO:+0100
TZNAME:CET
DTSTART:20211031T010000
END:STANDARD
END:VTIMEZONE
BEGIN:VEVENT
DTSTART;VALUE=DATE:20211006
DTEND;VALUE=DATE:20211008
DTSTAMP:20211006T160816
CREATED:20210819T140430Z
LAST-MODIFIED:20210906T144416Z
UID:7062-1633478400-1633651199@www.kjt.lu
SUMMARY:12. Suizid Präventionstage
DESCRIPTION:Der Service Information et Prévention de la Ligue freut sich zu den nationalen Tagen der Suizidprävention vom 6. bis zum 8. Oktober 2021 einladen zu dürfen. \nMehr Informationen sind auf der Webseite Suizid Prävention verfügbar.
URL:https://www.kjt.lu/de/event/suizid-praeventionstage/
ATTACH;FMTTYPE=image/png:https://www.kjt.lu/wp-content/uploads/2021/08/logo-prevention-suicide-2-e1629382079796.png
END:VEVENT
BEGIN:VEVENT
DTSTART;VALUE=DATE:20211006
DTEND;VALUE=DATE:20211008
DTSTAMP:20211006T160816
CREATED:20210819T141614Z
LAST-MODIFIED:20210819T142659Z
UID:7073-1633478400-1633651199@www.kjt.lu
SUMMARY:Safer Internet Forum 2021 - Save the date
DESCRIPTION:Das Safer Internet Forum (SIF) ist eine wichtige jährliche internationale Konferenz in Europa\, auf der politische Entscheidungsträger\, Forscher\, Strafverfolgungsbehörden\, Jugendliche\, Eltern und Betreuer\, Lehrer\, NRO\, Industrievertreter\, Experten und andere relevante Akteure zusammenkommen\, um die neuesten Trends\, Möglichkeiten\, Risiken und Lösungen im Zusammenhang mit der Online-Sicherheit von Kindern zu diskutieren. Die diesjährige Ausgabe findet online statt und wird sich mit der Frage befassen\, wie das digitale Jahrzehnt in Europa für Kinder und junge Menschen fit gemacht werden kann. \nDas Safer Internet Forum 2021 wird die wichtigsten Ergebnisse der jüngsten Konsultation zu den digitalen Grundsätzen vorstellen und die Stimmen von Kindern und Jugendlichen hören lassen\, um eine Vision für eine #DigitalDecade4YOUth zu entwickeln. Die Veranstaltung wird die Prioritäten hervorheben\, die verschiedene Gruppen\, einschließlich Eltern\, BetreuerInnen und LehrerInnen\, identifiziert haben\, um die Rechte der Kinder in einer digitalen Welt zu erfüllen und ihnen gleichzeitig die Möglichkeit zu geben\, sich in sicheren\, ethischen und integrativen Online-Räumen zu engagieren\, etwas zu schaffen und beizutragen. \nDie derzeit verfügbaren Informationen können hier nachgelesen werden.
URL:https://www.kjt.lu/de/event/safer-internet-forum-2021-save-the-date/
ATTACH;FMTTYPE=image/jpeg:https://www.kjt.lu/wp-content/uploads/2021/08/Save-the-date-SIF2021-780x192-2.jpg
END:VEVENT
END:VCALENDAR